View In:
ArcGIS JavaScript
ArcGIS Online Map Viewer
ArcGIS Earth
Service Description: Orto2023
Name: Orto2023
Description:
Single Fused Map Cache: false
Extent:
XMin: -48000.63536707341
YMin: 124999.78369225314
XMax: -32799.29172008104
YMax: 145500.0338208431
Spatial Reference: 3763
(3763)
LatestVCSWkid(0)
Initial Extent:
XMin: -48000.63536707341
YMin: 124999.78369225314
XMax: -32799.29172008104
YMax: 145500.0338208431
Spatial Reference: 3763
(3763)
LatestVCSWkid(0)
Full Extent:
XMin: -48000.63536707341
YMin: 124999.78369225314
XMax: -32799.29172008104
YMax: 145500.0338208431
Spatial Reference: 3763
(3763)
LatestVCSWkid(0)
Pixel Size X: 0.5000441989142227
Pixel Size Y: 0.5000061006973159
Band Count: 3
Pixel Type: U8
RasterFunction Infos: {"rasterFunctionInfos": [{
"name": "None",
"description": "",
"help": ""
}]}
Mensuration Capabilities: Basic
Has Histograms: true
Has Colormap: false
Has Multi Dimensions : false
Rendering Rule:
Min Scale: 0
Max Scale: 0
Copyright Text:
Service Data Type: esriImageServiceDataTypeRGB
Min Values: 0, 0, 0
Max Values: 255, 255, 255
Mean Values: 48.038131560532, 46.765069439337, 43.136443579032
Standard Deviation Values: 61.732698120795, 52.541526516258, 49.044176838369
Object ID Field:
Fields:
None
Default Mosaic Method: Center
Allowed Mosaic Methods:
SortField:
SortValue: null
Mosaic Operator: First
Default Compression Quality: 75
Default Resampling Method: Bilinear
Max Record Count: null
Max Image Height: 4100
Max Image Width: 15000
Max Download Image Count: null
Max Mosaic Image Count: null
Allow Raster Function: true
Allow Copy: true
Allow Analysis: true
Allow Compute TiePoints: false
Supports Statistics: false
Supports Advanced Queries: false
Use StandardizedQueries: true
Raster Type Infos:
Name: Raster Dataset
Description: Supports all ArcGIS Raster Datasets
Help:
Has Raster Attribute Table: false
Edit Fields Info: null
Ownership Based AccessControl For Rasters: null
Child Resources:
Info
Histograms
Statistics
Key Properties
Legend
Raster Function Infos
Supported Operations:
Export Image
Identify
Measure
Compute Histograms
Compute Statistics Histograms
Get Samples
Compute Class Statistics
Query Boundary
Compute Pixel Location
Compute Angles
Validate
Project